BEGIN:VCALENDAR
VERSION:2.0
PRODID:-//Squarespace Inc/Squarespace 6//v6//EN
BEGIN:VEVENT
UID:5e3ccc678792a018e58cb2ea@squarespace.com
DTSTAMP:20200207T025410Z
DTSTART:20200218T233000Z
DTEND:20200219T020000Z
SUMMARY:#RADICALREADZ - An Evening with Jason Lee
END:VEVENT
END:VCALENDAR
