BEGIN:VCALENDAR
VERSION:2.0
PRODID:-//Squarespace Inc/Squarespace 6//v6//EN
BEGIN:VEVENT
UID:5ced362de79c709766de9c3e@squarespace.com
DTSTAMP:20190528T132344Z
DTSTART:20190618T223000Z
DTEND:20190619T020000Z
SUMMARY:Another Kind of Freedom Book Party
END:VEVENT
END:VCALENDAR
