BEGIN:VCALENDAR
VERSION:2.0
PRODID:-//Squarespace Inc/Squarespace 6//v6//EN
BEGIN:VEVENT
UID:5cd2f9d2e4966b38ba66194b@squarespace.com
DTSTAMP:20190508T154717Z
DTSTART:20190530T223000Z
DTEND:20190531T020000Z
SUMMARY:#RevolutionaryReelz - Grass Is Greener
END:VEVENT
END:VCALENDAR
