BEGIN:VCALENDAR
VERSION:2.0
PRODID:-//Squarespace Inc/Squarespace 6//v6//EN
BEGIN:VEVENT
UID:5c9a95f2085229158f92e63d@squarespace.com
DTSTAMP:20190408T235324Z
DTSTART:20190411T223000Z
DTEND:20190412T020000Z
SUMMARY:#RevolutionaryReelz - OG
END:VEVENT
END:VCALENDAR
