BEGIN:VCALENDAR
VERSION:2.0
PRODID:-//Squarespace Inc/Squarespace 6//v6//EN
BEGIN:VEVENT
UID:5c801db624a6948208b67ed0@squarespace.com
DTSTAMP:20190315T125134Z
DTSTART:20190322T223000Z
DTEND:20190323T020000Z
SUMMARY:#RevolutionaryReelz - Mothers Day
END:VEVENT
END:VCALENDAR
