BEGIN:VCALENDAR
VERSION:2.0
PRODID:-//Squarespace Inc/Squarespace 6//v6//EN
BEGIN:VEVENT
UID:5c5ca107419202eb49b05d20@squarespace.com
DTSTAMP:20190207T212136Z
DTSTART:20190227T230000Z
DTEND:20190228T030000Z
SUMMARY:#RevolutionaryReelz - QUEST: A Portrait of an American Family
END:VEVENT
END:VCALENDAR
