BEGIN:VCALENDAR
VERSION:2.0
PRODID:-//Squarespace Inc/Squarespace 6//v6//EN
BEGIN:VEVENT
UID:5de921c6a8a1ca6891c67c17@squarespace.com
DTSTAMP:20191205T190926Z
DTSTART:20191210T000000Z
DTEND:20191210T030000Z
SUMMARY:We Fight On - Virtual Family Meeting
END:VEVENT
END:VCALENDAR
